BEGIN:VCALENDAR
VERSION:2.0
PRODID:-//ChurchDev//Events//EN
CALSCALE:GREGORIAN
METHOD:PUBLISH
BEGIN:VEVENT
UID:4200-20260213@www.as1community.com
SUMMARY:Prayer Meeting
DTSTART:20260214T024500Z
DTEND:20260214T040000Z
DESCRIPTION:When we work\, we work. When we pray\, God works! Get involved in this important ministry and approach the throne room of God with several others. In the Korean Service Room.\\nYou can submit your prayer request in-person or online at:\\nAsk for Prayers &amp\; Pray for Others\\n\\nhttps://www.as1community.com/events/prayer-meeting/
LOCATION:8421 Meadow Rd SW\, Lakewood\, WA 98499
URL:https://www.as1community.com/events/prayer-meeting/
DTSTAMP:20260419T203231Z
END:VEVENT
END:VCALENDAR
