BEGIN:VCALENDAR
VERSION:2.0
PRODID:-//ChurchDev//Events//EN
CALSCALE:GREGORIAN
METHOD:PUBLISH
BEGIN:VEVENT
UID:4241-20241103@www.as1community.com
SUMMARY:Communion Sunday
DTSTART;VALUE=DATE:20241103
DTEND;VALUE=DATE:20241104
DESCRIPTION:At the end of the service\, we will observe the Lord&#8217\;s Supper.\\n\\nhttps://www.as1community.com/events/communion-sunday/
LOCATION:8421 Meadow Rd SW\, Lakewood\, WA 98499
URL:https://www.as1community.com/events/communion-sunday/
DTSTAMP:20260419T203219Z
END:VEVENT
END:VCALENDAR
