BEGIN:VCALENDAR
VERSION:2.0
PRODID:-//ChurchDev//Events//EN
CALSCALE:GREGORIAN
METHOD:PUBLISH
BEGIN:VEVENT
UID:4259-20241124@www.as1community.com
SUMMARY:Discipleship Sunday
DTSTART;VALUE=DATE:20241124
DTEND;VALUE=DATE:20241125
DESCRIPTION:https://www.as1community.com/events/discipleship-sunday/
LOCATION:8421 Meadow Rd SW\, Lakewood\, WA 98499
URL:https://www.as1community.com/events/discipleship-sunday/
DTSTAMP:20260419T202353Z
END:VEVENT
END:VCALENDAR
