BEGIN:VCALENDAR
VERSION:2.0
PRODID:-//ChurchDev//Events//EN
CALSCALE:GREGORIAN
METHOD:PUBLISH
BEGIN:VEVENT
UID:4385-20250831@www.as1community.com
SUMMARY:Fifth Sunday
DTSTART;VALUE=DATE:20250831
DTEND;VALUE=DATE:20250901
DESCRIPTION:https://www.as1community.com/events/fifth-sunday/
LOCATION:8421 Meadow Rd SW\, Lakewood\, WA 98499
URL:https://www.as1community.com/events/fifth-sunday/
DTSTAMP:20260419T220322Z
END:VEVENT
END:VCALENDAR
