BEGIN:VCALENDAR
VERSION:2.0
PRODID:-//ChurchDev//Events//EN
CALSCALE:GREGORIAN
METHOD:PUBLISH
BEGIN:VEVENT
UID:4470-20260405@www.as1community.com
SUMMARY:Easter Sunday
DTSTART;VALUE=DATE:20260405
DTEND;VALUE=DATE:20260406
DESCRIPTION:https://www.as1community.com/events/easter-sunday/
LOCATION:8421 Meadow Rd SW\, Lakewood\, WA 98499
URL:https://www.as1community.com/events/easter-sunday/
DTSTAMP:20260419T202815Z
END:VEVENT
END:VCALENDAR
