BEGIN:VCALENDAR
VERSION:2.0
PRODID:-//ChurchDev//Events//EN
CALSCALE:GREGORIAN
METHOD:PUBLISH
BEGIN:VEVENT
UID:4471-20260403@www.as1community.com
SUMMARY:Good Friday
DTSTART;VALUE=DATE:20260403
DTEND;VALUE=DATE:20260404
DESCRIPTION:https://www.as1community.com/events/good-friday-2/
LOCATION:8421 Meadow Rd SW\, Lakewood\, WA 98499
URL:https://www.as1community.com/events/good-friday-2/
DTSTAMP:20260419T202354Z
END:VEVENT
END:VCALENDAR
